BEGIN:VCALENDAR
VERSION:2.0
PRODID:-//Familienzentrum Parkstraße - ECPv6.15.20//NONSGML v1.0//EN
CALSCALE:GREGORIAN
METHOD:PUBLISH
X-WR-CALNAME:Familienzentrum Parkstraße
X-ORIGINAL-URL:https://www.familienzentrum-parkstr.de
X-WR-CALDESC:Veranstaltungen für Familienzentrum Parkstraße
REFRESH-INTERVAL;VALUE=DURATION:PT1H
X-Robots-Tag:noindex
X-PUBLISHED-TTL:PT1H
BEGIN:VTIMEZONE
TZID:Europe/Berlin
BEGIN:DAYLIGHT
TZOFFSETFROM:+0100
TZOFFSETTO:+0200
TZNAME:CEST
DTSTART:20250330T010000
END:DAYLIGHT
BEGIN:STANDARD
TZOFFSETFROM:+0200
TZOFFSETTO:+0100
TZNAME:CET
DTSTART:20251026T010000
END:STANDARD
BEGIN:DAYLIGHT
TZOFFSETFROM:+0100
TZOFFSETTO:+0200
TZNAME:CEST
DTSTART:20260329T010000
END:DAYLIGHT
BEGIN:STANDARD
TZOFFSETFROM:+0200
TZOFFSETTO:+0100
TZNAME:CET
DTSTART:20261025T010000
END:STANDARD
BEGIN:DAYLIGHT
TZOFFSETFROM:+0100
TZOFFSETTO:+0200
TZNAME:CEST
DTSTART:20270328T010000
END:DAYLIGHT
BEGIN:STANDARD
TZOFFSETFROM:+0200
TZOFFSETTO:+0100
TZNAME:CET
DTSTART:20271031T010000
END:STANDARD
END:VTIMEZONE
BEGIN:VEVENT
DTSTART;TZID=Europe/Berlin:20260227T150000
DTEND;TZID=Europe/Berlin:20260227T170000
DTSTAMP:20260425T150058
CREATED:20260127T123603Z
LAST-MODIFIED:20260127T123603Z
UID:2260-1772204400-1772211600@www.familienzentrum-parkstr.de
SUMMARY:Gemeinsam Stark – Eltern-Kind-Gruppe für Alleinerziehende
DESCRIPTION:Ein Ort zum Ankommen\, Austauschen und Wohlfühlen: Unsere Eltern-Kind-Gruppe „Gemeinsam Stark“ richtet sich speziell an Alleinerziehende\, die sich mit anderen in ähnlichen Lebenssituationen vernetzen möchten. \nWir treffen uns freitags von 15:00 bis 17:00 Uhr im Familienzentrum. Während die Kinder miteinander spielen oder – gemeinsam mit ihren Eltern – den Bewegungsraum erkunden\, bieten wir den Erwachsenen Raum für Gespräche\, neue Kontakte und gegenseitige Unterstützung. \nJede Woche greifen wir ein neues Thema rund um den Alltag als Alleinerziehende auf – offen\, wertschätzend und alltagsnah. Für eine gemütliche Atmosphäre sorgen kleine Snacks\, die wir bereitstellen. Wer mag\, darf gern auch etwas zu essen oder trinken mitbringen und mit der Gruppe teilen. \nEin offenes Angebot ohne Anmeldung – einfach vorbeikommen und mitmachen!\nWir freuen uns auf euch und eure Kinder!
URL:https://www.familienzentrum-parkstr.de/angebot/gemeinsam-stark-eltern-kind-gruppe-fuer-alleinerziehende-25/
END:VEVENT
END:VCALENDAR