BEGIN:VCALENDAR
VERSION:2.0
PRODID:-//Familienzentrum Parkstraße - ECPv6.15.20//NONSGML v1.0//EN
CALSCALE:GREGORIAN
METHOD:PUBLISH
X-WR-CALNAME:Familienzentrum Parkstraße
X-ORIGINAL-URL:https://www.familienzentrum-parkstr.de
X-WR-CALDESC:Veranstaltungen für Familienzentrum Parkstraße
REFRESH-INTERVAL;VALUE=DURATION:PT1H
X-Robots-Tag:noindex
X-PUBLISHED-TTL:PT1H
BEGIN:VTIMEZONE
TZID:Europe/Berlin
BEGIN:DAYLIGHT
TZOFFSETFROM:+0100
TZOFFSETTO:+0200
TZNAME:CEST
DTSTART:20250330T010000
END:DAYLIGHT
BEGIN:STANDARD
TZOFFSETFROM:+0200
TZOFFSETTO:+0100
TZNAME:CET
DTSTART:20251026T010000
END:STANDARD
BEGIN:DAYLIGHT
TZOFFSETFROM:+0100
TZOFFSETTO:+0200
TZNAME:CEST
DTSTART:20260329T010000
END:DAYLIGHT
BEGIN:STANDARD
TZOFFSETFROM:+0200
TZOFFSETTO:+0100
TZNAME:CET
DTSTART:20261025T010000
END:STANDARD
BEGIN:DAYLIGHT
TZOFFSETFROM:+0100
TZOFFSETTO:+0200
TZNAME:CEST
DTSTART:20270328T010000
END:DAYLIGHT
BEGIN:STANDARD
TZOFFSETFROM:+0200
TZOFFSETTO:+0100
TZNAME:CET
DTSTART:20271031T010000
END:STANDARD
END:VTIMEZONE
BEGIN:VEVENT
DTSTART;TZID=Europe/Berlin:20260305T100000
DTEND;TZID=Europe/Berlin:20260305T110000
DTSTAMP:20260425T150538
CREATED:20260127T065603Z
LAST-MODIFIED:20260216T125642Z
UID:2234-1772704800-1772708400@www.familienzentrum-parkstr.de
SUMMARY:Mutter-Kind-Yoga
DESCRIPTION:Ihr möchtet Bewegung in den Alltag mit Baby integrieren\, eure müden \nMuskeln sanft stärken und dabei euer Kind nah bei euch haben? In dieser \nYogastunde unterstützen wir die Beckenbodenmuskulatur\, entspannen \nSchultern und Nacken und genießen gleichzeitig die Verbindung zu unseren \nKindern. Gemeinsam finden wir aus der Kraft in die Ruhe. Platz ist für \n10 Mutter-Kind Paare. Wer es nicht mehr rein schafft\, ist eingeladen\, im \nEltern-Kind Café zu entspannen.
URL:https://www.familienzentrum-parkstr.de/angebot/mutter-kind-yoga-18/
CATEGORIES:Offene Angebote
END:VEVENT
END:VCALENDAR