BEGIN:VCALENDAR
VERSION:2.0
PRODID:-//Familienzentrum Parkstraße - ECPv6.15.20//NONSGML v1.0//EN
CALSCALE:GREGORIAN
METHOD:PUBLISH
X-WR-CALNAME:Familienzentrum Parkstraße
X-ORIGINAL-URL:https://www.familienzentrum-parkstr.de
X-WR-CALDESC:Veranstaltungen für Familienzentrum Parkstraße
REFRESH-INTERVAL;VALUE=DURATION:PT1H
X-Robots-Tag:noindex
X-PUBLISHED-TTL:PT1H
BEGIN:VTIMEZONE
TZID:Europe/Berlin
BEGIN:DAYLIGHT
TZOFFSETFROM:+0100
TZOFFSETTO:+0200
TZNAME:CEST
DTSTART:20250330T010000
END:DAYLIGHT
BEGIN:STANDARD
TZOFFSETFROM:+0200
TZOFFSETTO:+0100
TZNAME:CET
DTSTART:20251026T010000
END:STANDARD
BEGIN:DAYLIGHT
TZOFFSETFROM:+0100
TZOFFSETTO:+0200
TZNAME:CEST
DTSTART:20260329T010000
END:DAYLIGHT
BEGIN:STANDARD
TZOFFSETFROM:+0200
TZOFFSETTO:+0100
TZNAME:CET
DTSTART:20261025T010000
END:STANDARD
BEGIN:DAYLIGHT
TZOFFSETFROM:+0100
TZOFFSETTO:+0200
TZNAME:CEST
DTSTART:20270328T010000
END:DAYLIGHT
BEGIN:STANDARD
TZOFFSETFROM:+0200
TZOFFSETTO:+0100
TZNAME:CET
DTSTART:20271031T010000
END:STANDARD
END:VTIMEZONE
BEGIN:VEVENT
DTSTART;TZID=Europe/Berlin:20260325T100000
DTEND;TZID=Europe/Berlin:20260325T120000
DTSTAMP:20260425T150628
CREATED:20260216T085845Z
LAST-MODIFIED:20260216T085845Z
UID:2279-1774432800-1774440000@www.familienzentrum-parkstr.de
SUMMARY:Elternzeitfrühstück der Frühen Hilfen
DESCRIPTION:Familien mit Kindern von der Geburt bis zum dritten Lebensjahr sowie werdende Eltern sind herzlich willkommen zu einem gemeinsamen Frühstück mit Möglichkeiten zum Austausch sowie Raum und Gelegenheiten zu Spiel und Bewegung für die Kinder.  Kaffee\, Tee\, Wasser und Brötchen haben wir vor Ort. Eine Anmeldung ist nicht erforderlich. \nWer\nEltern(teile) mit Kindern mit und ohne Behinderung von 0 bis zum dritten Lebensjahr sowie werdende Eltern mit und ohne Behinderung
URL:https://www.familienzentrum-parkstr.de/angebot/elternzeitfruehstueck-der-fruehen-hilfen-36/
LOCATION:Mehrzweckraum
CATEGORIES:Offene Angebote,Offener Treff
END:VEVENT
BEGIN:VEVENT
DTSTART;TZID=Europe/Berlin:20260325T150000
DTEND;TZID=Europe/Berlin:20260325T170000
DTSTAMP:20260425T150628
CREATED:20260216T095505Z
LAST-MODIFIED:20260216T095505Z
UID:2296-1774450800-1774458000@www.familienzentrum-parkstr.de
SUMMARY:Kreativnachmittag für Familien (ab ca. 3 Jahren)
DESCRIPTION:Am Mittwoch von 15 – 17 Uhr\nIm Familienzentrum – Kostenlos und ohne Anmeldung.\nFür Kinder ab 3 Jahren.\n \nWas ist das?\nJeden Mittwoch laden wir Familien zu einem bunten und fröhlichen Kreativnachmittag ein. Kommt einfach vorbei – ohne Anmeldung und ganz kostenlos! \nWas machen wir?\nWir basteln\, malen\, kleben\, schreiben und gestalten gemeinsam. Jede Woche gibt es neue kreative Ideen. \nWer kann mitmachen?\nAlle Familien mit Kindern ab 3 Jahren. \nUnser Angebot ist inklusiv: Alle Menschen sind willkommen\, mit und ohne Behinderung. Wir achten auf ein gutes Miteinander und helfen gerne\, wenn Unterstützung gebraucht wird.
URL:https://www.familienzentrum-parkstr.de/angebot/kreativnachmittag-fuer-familien-ab-ca-3-jahren-19/
LOCATION:Mehrzweckraum
END:VEVENT
END:VCALENDAR