BEGIN:VCALENDAR
VERSION:2.0
PRODID:-//Familienzentrum Parkstraße - ECPv6.15.20//NONSGML v1.0//EN
CALSCALE:GREGORIAN
METHOD:PUBLISH
X-WR-CALNAME:Familienzentrum Parkstraße
X-ORIGINAL-URL:https://www.familienzentrum-parkstr.de
X-WR-CALDESC:Veranstaltungen für Familienzentrum Parkstraße
REFRESH-INTERVAL;VALUE=DURATION:PT1H
X-Robots-Tag:noindex
X-PUBLISHED-TTL:PT1H
BEGIN:VTIMEZONE
TZID:Europe/Berlin
BEGIN:DAYLIGHT
TZOFFSETFROM:+0100
TZOFFSETTO:+0200
TZNAME:CEST
DTSTART:20250330T010000
END:DAYLIGHT
BEGIN:STANDARD
TZOFFSETFROM:+0200
TZOFFSETTO:+0100
TZNAME:CET
DTSTART:20251026T010000
END:STANDARD
BEGIN:DAYLIGHT
TZOFFSETFROM:+0100
TZOFFSETTO:+0200
TZNAME:CEST
DTSTART:20260329T010000
END:DAYLIGHT
BEGIN:STANDARD
TZOFFSETFROM:+0200
TZOFFSETTO:+0100
TZNAME:CET
DTSTART:20261025T010000
END:STANDARD
BEGIN:DAYLIGHT
TZOFFSETFROM:+0100
TZOFFSETTO:+0200
TZNAME:CEST
DTSTART:20270328T010000
END:DAYLIGHT
BEGIN:STANDARD
TZOFFSETFROM:+0200
TZOFFSETTO:+0100
TZNAME:CET
DTSTART:20271031T010000
END:STANDARD
END:VTIMEZONE
BEGIN:VEVENT
DTSTART;TZID=Europe/Berlin:20260423T100000
DTEND;TZID=Europe/Berlin:20260423T110000
DTSTAMP:20260423T155542
CREATED:20260402T093705Z
LAST-MODIFIED:20260402T093705Z
UID:2434-1776938400-1776942000@www.familienzentrum-parkstr.de
SUMMARY:Mutter-Kind-Yoga
DESCRIPTION:Ihr möchtet Bewegung in den Alltag mit Baby integrieren\, eure müden \nMuskeln sanft stärken und dabei euer Kind nah bei euch haben? In dieser \nYogastunde unterstützen wir die Beckenbodenmuskulatur\, entspannen \nSchultern und Nacken und genießen gleichzeitig die Verbindung zu unseren \nKindern. Gemeinsam finden wir aus der Kraft in die Ruhe. Platz ist für \n10 Mutter-Kind Paare. Wer es nicht mehr rein schafft\, ist eingeladen\, im \nEltern-Kind Café zu entspannen.
URL:https://www.familienzentrum-parkstr.de/angebot/mutter-kind-yoga-26/
CATEGORIES:Offene Angebote
END:VEVENT
BEGIN:VEVENT
DTSTART;TZID=Europe/Berlin:20260424T150000
DTEND;TZID=Europe/Berlin:20260424T170000
DTSTAMP:20260423T155542
CREATED:20260402T093832Z
LAST-MODIFIED:20260402T093832Z
UID:2442-1777042800-1777050000@www.familienzentrum-parkstr.de
SUMMARY:Gemeinsam Stark – Eltern-Kind-Gruppe für Alleinerziehende
DESCRIPTION:Ein Ort zum Ankommen\, Austauschen und Wohlfühlen: Unsere Eltern-Kind-Gruppe „Gemeinsam Stark“ richtet sich speziell an Alleinerziehende\, die sich mit anderen in ähnlichen Lebenssituationen vernetzen möchten. \nWir treffen uns freitags von 15:00 bis 17:00 Uhr im Familienzentrum. Während die Kinder miteinander spielen oder – gemeinsam mit ihren Eltern – den Bewegungsraum erkunden\, bieten wir den Erwachsenen Raum für Gespräche\, neue Kontakte und gegenseitige Unterstützung. \nJede Woche greifen wir ein neues Thema rund um den Alltag als Alleinerziehende auf – offen\, wertschätzend und alltagsnah. Für eine gemütliche Atmosphäre sorgen kleine Snacks\, die wir bereitstellen. Wer mag\, darf gern auch etwas zu essen oder trinken mitbringen und mit der Gruppe teilen. \nEin offenes Angebot ohne Anmeldung – einfach vorbeikommen und mitmachen!\nWir freuen uns auf euch und eure Kinder!
URL:https://www.familienzentrum-parkstr.de/angebot/gemeinsam-stark-eltern-kind-gruppe-fuer-alleinerziehende-32/
END:VEVENT
BEGIN:VEVENT
DTSTART;TZID=Europe/Berlin:20260427T150000
DTEND;TZID=Europe/Berlin:20260427T163000
DTSTAMP:20260423T155542
CREATED:20260402T092620Z
LAST-MODIFIED:20260402T092620Z
UID:2394-1777302000-1777307400@www.familienzentrum-parkstr.de
SUMMARY:Offene Krabbelgruppe am Nachmittag
DESCRIPTION:Kostenlos – Offen für alle – Gemeinsam wachsen \nMontags von 15:00 -16:30 Uhr\n \nIn unserer offenen Krabbelgruppe sind alle Eltern mit Babys und Kleinkindern herzlich willkommen!Die Gruppe ist kostenlos und du kannst einfach vorbeikommen\, ohne Anmeldung. \nWas erwartet dich? \n\nEin großer\, sicherer Bewegungsraum zum Spielen\, Krabbeln und Entdecken\nViel Zeit zum Austauschen mit anderen Eltern\nEine Möglichkeit\, neue Freundschaften zu knüpfen\nTipps und Unterstützung von uns\n\nFür wen ist die Krabbelgruppe? \nFür alle Mamas\, Papas\, Omas\, Opas oder andere Bezugspersonen mit Babys und Kleinkindern. Egal\, woher du kommst oder welche Sprache du sprichst – alle sind willkommen! \nWarum ist die Krabbelgruppe gut für dich und dein Kind? \n\nDein Kind kann in sicherer Umgebung mit anderen Kindern spielen und soziale Kontakte knüpfen.\nDu bekommst die Chance\, dich mit anderen Eltern über den Alltag mit Baby oder Kleinkind auszutauschen.\nWir hören dir zu und unterstützen dich bei Fragen rund ums Kind und Familie.\n\nKomm vorbei – wir freuen uns auf dich und dein Kind!Du musst nichts mitbringen – nur dich\, dein Kind und gute Laune.
URL:https://www.familienzentrum-parkstr.de/angebot/offene-krabbelgruppe-am-nachmittag-34/
END:VEVENT
BEGIN:VEVENT
DTSTART;TZID=Europe/Berlin:20260427T150000
DTEND;TZID=Europe/Berlin:20260427T163000
DTSTAMP:20260423T155542
CREATED:20260402T092712Z
LAST-MODIFIED:20260402T092712Z
UID:2400-1777302000-1777307400@www.familienzentrum-parkstr.de
SUMMARY:Offenes Familiencafé
DESCRIPTION:Offenes Familiencafé – Zeit für Begegnung und Austausch\nMontags 15 – 16:30 Uhr\nDonnerstags 10 – 12 Uhr\n \nParallel zu unserem Angebot im Bewegungsraum\, lädt unser offenes Familiencafé alle Eltern und Kinder herzlich ein\, in gemütlicher Atmosphäre eine kleine Auszeit zu genießen.\nBei einer Tasse Kaffee oder Tee gibt es Raum für Gespräche\, Kennenlernen und entspannten Austausch mit anderen Familien.\nKommt gerne einfach vorbei – wir freuen uns auf euch!
URL:https://www.familienzentrum-parkstr.de/angebot/offenes-familiencafe-43/
END:VEVENT
BEGIN:VEVENT
DTSTART;TZID=Europe/Berlin:20260428T100000
DTEND;TZID=Europe/Berlin:20260428T120000
DTSTAMP:20260423T155542
CREATED:20260402T093046Z
LAST-MODIFIED:20260402T093046Z
UID:2409-1777370400-1777377600@www.familienzentrum-parkstr.de
SUMMARY:Offene Krabbelgruppe
DESCRIPTION:Kostenlos – Offen für alle – Gemeinsam wachsen \nDienstags von 10:00 – 12:00 Uhr \nIn unserer offenen Krabbelgruppe sind alle Eltern mit Babys und Kleinkindern herzlich willkommen!Die Gruppe ist kostenlos und du kannst einfach vorbeikommen\, ohne Anmeldung. \nWas erwartet dich? \n\nEin großer\, sicherer Bewegungsraum zum Spielen\, Krabbeln und Entdecken\nViel Zeit zum Austauschen mit anderen Eltern\nEine Möglichkeit\, neue Freundschaften zu knüpfen\nTipps und Unterstützung von uns\n\nFür wen ist die Krabbelgruppe? \nFür alle Mamas\, Papas\, Omas\, Opas oder andere Bezugspersonen mit Babys und Kleinkindern. Egal\, woher du kommst oder welche Sprache du sprichst – alle sind willkommen! \nWarum ist die Krabbelgruppe gut für dich und dein Kind? \n\nDein Kind kann in sicherer Umgebung mit anderen Kindern spielen und soziale Kontakte knüpfen.\nDu bekommst die Chance\, dich mit anderen Eltern über den Alltag mit Baby oder Kleinkind auszutauschen.\nWir hören dir zu und unterstützen dich bei Fragen rund ums Kind und Familie.\n\nKomm vorbei – wir freuen uns auf dich und dein Kind!Du musst nichts mitbringen – nur dich\, dein Kind und gute Laune.
URL:https://www.familienzentrum-parkstr.de/angebot/offene-krabbelgruppe-42/
END:VEVENT
BEGIN:VEVENT
DTSTART;TZID=Europe/Berlin:20260428T113000
DTEND;TZID=Europe/Berlin:20260428T140000
DTSTAMP:20260423T155542
CREATED:20260312T104007Z
LAST-MODIFIED:20260402T092849Z
UID:2357-1777375800-1777384800@www.familienzentrum-parkstr.de
SUMMARY:Kurs: Starke Eltern – Starke Kinder(heute 11:30-14 Uhr!!!)
DESCRIPTION:Für alle Mütter und Väter \n \n> Wege finden\, Konflikte zu bewältigen und zu lösen \n> Familienalltag gelassener gestalten \n> Selbstbewusstsein von Müttern\, Vätern und Kindern stärken \n> Das Miteinander in der Familie verbessern \n! 12 Termine ab 21.04.26 bis 07.07.26 / jeden Dienstag von 10 Uhr bis 12:30 Uhr / in den Ferien findet kein Kurs statt \nKursleitung \nMichaela Voß-Hamann\n0176 55849090\nmvoss-hamann@g-casablanca.de \nMatthias Pilz\n01590 6186731\nmpilz@g-casablanca.de \nDie Anmeldung erfolgt über die Kursleitung. Da die einzelnen Kursteile aufeinander aufbauen\, ist eine regelmäßige Teilnahme wichtig. \nWir erheben einen Kursbeitrag von 12 € pro Person. \nFlyer: StarkeEltern-StarkeKinder
URL:https://www.familienzentrum-parkstr.de/angebot/kurs-starke-eltern-starke-kinder-14/
CATEGORIES:Kurse
END:VEVENT
BEGIN:VEVENT
DTSTART;TZID=Europe/Berlin:20260429T100000
DTEND;TZID=Europe/Berlin:20260429T120000
DTSTAMP:20260423T155542
CREATED:20260402T093253Z
LAST-MODIFIED:20260402T093253Z
UID:2417-1777456800-1777464000@www.familienzentrum-parkstr.de
SUMMARY:Elternzeitfrühstück der Frühen Hilfen
DESCRIPTION:Familien mit Kindern von der Geburt bis zum dritten Lebensjahr sowie werdende Eltern sind herzlich willkommen zu einem gemeinsamen Frühstück mit Möglichkeiten zum Austausch sowie Raum und Gelegenheiten zu Spiel und Bewegung für die Kinder.  Kaffee\, Tee\, Wasser und Brötchen haben wir vor Ort. Eine Anmeldung ist nicht erforderlich. \nWer\nEltern(teile) mit Kindern mit und ohne Behinderung von 0 bis zum dritten Lebensjahr sowie werdende Eltern mit und ohne Behinderung
URL:https://www.familienzentrum-parkstr.de/angebot/elternzeitfruehstueck-der-fruehen-hilfen-41/
LOCATION:Mehrzweckraum
CATEGORIES:Offene Angebote,Offener Treff
END:VEVENT
BEGIN:VEVENT
DTSTART;TZID=Europe/Berlin:20260430T100000
DTEND;TZID=Europe/Berlin:20260430T110000
DTSTAMP:20260423T155542
CREATED:20260402T093716Z
LAST-MODIFIED:20260402T093716Z
UID:2436-1777543200-1777546800@www.familienzentrum-parkstr.de
SUMMARY:Mutter-Kind-Yoga
DESCRIPTION:Ihr möchtet Bewegung in den Alltag mit Baby integrieren\, eure müden \nMuskeln sanft stärken und dabei euer Kind nah bei euch haben? In dieser \nYogastunde unterstützen wir die Beckenbodenmuskulatur\, entspannen \nSchultern und Nacken und genießen gleichzeitig die Verbindung zu unseren \nKindern. Gemeinsam finden wir aus der Kraft in die Ruhe. Platz ist für \n10 Mutter-Kind Paare. Wer es nicht mehr rein schafft\, ist eingeladen\, im \nEltern-Kind Café zu entspannen.
URL:https://www.familienzentrum-parkstr.de/angebot/mutter-kind-yoga-27/
CATEGORIES:Offene Angebote
END:VEVENT
BEGIN:VEVENT
DTSTART;TZID=Europe/Berlin:20260430T150000
DTEND;TZID=Europe/Berlin:20260430T170000
DTSTAMP:20260423T155542
CREATED:20260402T093613Z
LAST-MODIFIED:20260423T080342Z
UID:2428-1777561200-1777568400@www.familienzentrum-parkstr.de
SUMMARY:Kreativnachmittag für Familien
DESCRIPTION:Am Donnerstag von 15 – 17 Uhr\nIm Familienzentrum – Kostenlos und ohne Anmeldung. \nWas ist das?\nJeden Mittwoch laden wir Familien zu einem bunten und fröhlichen Kreativnachmittag ein. Kommt einfach vorbei – ohne Anmeldung und ganz kostenlos! \nWas machen wir?\nWir basteln\, malen\, kleben\, schreiben und gestalten gemeinsam. Jede Woche gibt es neue kreative Ideen. \nWer kann mitmachen?\nAlle Familien mit Kindern. \nUnser Angebot ist inklusiv: Alle Menschen sind willkommen\, mit und ohne Behinderung. Wir achten auf ein gutes Miteinander und helfen gerne\, wenn Unterstützung gebraucht wird.
URL:https://www.familienzentrum-parkstr.de/angebot/kreativnachmittag-fuer-familien-13/
LOCATION:Mehrzweckraum
END:VEVENT
END:VCALENDAR